BEGIN:VCALENDAR
VERSION:2.0
PRODID:-//Woodstock Wines - ECPv4.9.13//NONSGML v1.0//EN
CALSCALE:GREGORIAN
METHOD:PUBLISH
X-WR-CALNAME:Woodstock Wines
X-ORIGINAL-URL:https://woodstockwine.com.au
X-WR-CALDESC:Events for Woodstock Wines
BEGIN:VTIMEZONE
TZID:Australia/Adelaide
BEGIN:STANDARD
TZOFFSETFROM:+1030
TZOFFSETTO:+0930
TZNAME:ACST
DTSTART:20200404T163000
END:STANDARD
BEGIN:DAYLIGHT
TZOFFSETFROM:+0930
TZOFFSETTO:+1030
TZNAME:ACDT
DTSTART:20201003T163000
END:DAYLIGHT
END:VTIMEZONE
BEGIN:VEVENT
DTSTART;TZID=Australia/Adelaide:20200410T183000
DTEND;TZID=Australia/Adelaide:20200410T183000
DTSTAMP:20210228T234304
CREATED:20200316T021431Z
LAST-MODIFIED:20200316T022723Z
UID:209860-1586543400-1586543400@woodstockwine.com.au
SUMMARY:Closed from 5pm Good Friday - No Flammekueche Tonight!
DESCRIPTION:Good Friday\, 10 April 2020.\nThe Woodstock Coterie Kitchen will be open for lunch only today from 12-3\nPlease call 8383 0156 to book.\nClosed for dinner – no Falmmekueche Friday tonight. See you next week. \n
URL:https://woodstockwine.com.au/event/closed-from-5pm-good-friday-no-flammekueche-tonight/
LOCATION:Woodstock Wine Estate\, 215 Douglas Gully Road\, McLaren Flat\, South Australia\, 5171\, Australia
CATEGORIES:Friday Nights at Woodstock
END:VEVENT
END:VCALENDAR