BEGIN:VCALENDAR
VERSION:2.0
PRODID:-//Woodstock Wines - ECPv4.9.13//NONSGML v1.0//EN
CALSCALE:GREGORIAN
METHOD:PUBLISH
X-WR-CALNAME:Woodstock Wines
X-ORIGINAL-URL:https://woodstockwine.com.au
X-WR-CALDESC:Events for Woodstock Wines
BEGIN:VTIMEZONE
TZID:Australia/Adelaide
BEGIN:STANDARD
TZOFFSETFROM:+1030
TZOFFSETTO:+0930
TZNAME:ACST
DTSTART:20200404T163000
END:STANDARD
BEGIN:DAYLIGHT
TZOFFSETFROM:+0930
TZOFFSETTO:+1030
TZNAME:ACDT
DTSTART:20201003T163000
END:DAYLIGHT
END:VTIMEZONE
BEGIN:VEVENT
DTSTART;TZID=Australia/Adelaide:20200327T183000
DTEND;TZID=Australia/Adelaide:20200327T223000
DTSTAMP:20210301T030723
CREATED:20200316T020329Z
LAST-MODIFIED:20200316T020557Z
UID:209854-1585333800-1585348200@woodstockwine.com.au
SUMMARY:Friday Night Flammekueche with live music by Max!
DESCRIPTION:This week\, live music by Max! \n \nWoodstock brings the famous Flammekueche of Alsace to McLaren Vale! \nFlammekueche\, pronounced “flam-cush”\, in German and “Tarte Flambée” in French. A traditional stone baked flat bread from Alsace in France. Woodstock mixes it up with traditional and house specialty toppings! So yummy and something for everyone. \nCome and share this European delight with us on Friday nights throughout the year (unless closed for a private function – keep tabs on our socials for updates). 🍕🍷🍕🍷🍕🍷 \nJust $38 per person for a shared starter\, endless flammekueche and something sweet to finish. \nWith different drink specials\, and rotating live music each week\, there’s always something new to enjoy! \n$42pp for gluten free bases \nThe perfect way to kick-start your weekend. \nBookings required: 8383 0156 or online at woodstockwine.com.au/restaurant/ \n
URL:https://woodstockwine.com.au/event/friday-night-flammekueche-2/
LOCATION:Woodstock Wine Estate\, 215 Douglas Gully Road\, McLaren Flat\, South Australia\, 5171\, Australia
END:VEVENT
END:VCALENDAR