BEGIN:VCALENDAR
VERSION:2.0
PRODID:-//Woodstock Wines - ECPv4.9.13//NONSGML v1.0//EN
CALSCALE:GREGORIAN
METHOD:PUBLISH
X-WR-CALNAME:Woodstock Wines
X-ORIGINAL-URL:https://woodstockwine.com.au
X-WR-CALDESC:Events for Woodstock Wines
BEGIN:VTIMEZONE
TZID:UTC
BEGIN:STANDARD
TZOFFSETFROM:+0000
TZOFFSETTO:+0000
TZNAME:UTC
DTSTART:20180101T000000
END:STANDARD
END:VTIMEZONE
BEGIN:VEVENT
DTSTART;VALUE=DATE:20181018
DTEND;VALUE=DATE:20181019
DTSTAMP:20210301T031558
CREATED:20180730T181952Z
LAST-MODIFIED:20180808T164934Z
UID:208382-1539820800-1539907199@woodstockwine.com.au
SUMMARY:Sample Event 4
DESCRIPTION:Details of the event here\, from 6:30pm – 10:30pm\n– Minimum tables of 8 persons \n
URL:https://woodstockwine.com.au/event/sample-event-4/
ATTACH;FMTTYPE=image/jpeg:https://woodstockwine.com.au/wp-content/uploads/2018/07/restaurant-image-gallery-7.jpg
END:VEVENT
END:VCALENDAR