BEGIN:VCALENDAR
VERSION:2.0
PRODID:-//Woodstock Wines - ECPv4.9.13//NONSGML v1.0//EN
CALSCALE:GREGORIAN
METHOD:PUBLISH
X-WR-CALNAME:Woodstock Wines
X-ORIGINAL-URL:https://woodstockwine.com.au
X-WR-CALDESC:Events for Woodstock Wines
BEGIN:VTIMEZONE
TZID:UTC
BEGIN:STANDARD
TZOFFSETFROM:+0000
TZOFFSETTO:+0000
TZNAME:UTC
DTSTART:20190101T000000
END:STANDARD
END:VTIMEZONE
BEGIN:VEVENT
DTSTART;TZID=UTC:20190214T180000
DTEND;TZID=UTC:20190217T230000
DTSTAMP:20210227T094240
CREATED:20190121T153936Z
LAST-MODIFIED:20190130T155053Z
UID:209364-1550167200-1550444400@woodstockwine.com.au
SUMMARY:Valentines Dinner
DESCRIPTION:Join us for a special night under the gum trees… \n
URL:https://woodstockwine.com.au/event/woodstock-event-1/
CATEGORIES:Wedding
ATTACH;FMTTYPE=image/png:https://woodstockwine.com.au/wp-content/uploads/2019/01/Vday-tile-3.png
ORGANIZER;CN="John%20Doe":MAILTO:johndoe@gmail.com
END:VEVENT
END:VCALENDAR